BEGIN:VCALENDAR
VERSION:2.0
PRODID:-// - ECPv6.15.20//NONSGML v1.0//EN
CALSCALE:GREGORIAN
METHOD:PUBLISH
X-ORIGINAL-URL:https://caseyandanke.net
X-WR-CALDESC:Events for 
REFRESH-INTERVAL;VALUE=DURATION:PT1H
X-Robots-Tag:noindex
X-PUBLISHED-TTL:PT1H
BEGIN:VTIMEZONE
TZID:America/Los_Angeles
BEGIN:DAYLIGHT
TZOFFSETFROM:-0800
TZOFFSETTO:-0700
TZNAME:PDT
DTSTART:20250309T100000
END:DAYLIGHT
BEGIN:STANDARD
TZOFFSETFROM:-0700
TZOFFSETTO:-0800
TZNAME:PST
DTSTART:20251102T090000
END:STANDARD
BEGIN:DAYLIGHT
TZOFFSETFROM:-0800
TZOFFSETTO:-0700
TZNAME:PDT
DTSTART:20260308T100000
END:DAYLIGHT
BEGIN:STANDARD
TZOFFSETFROM:-0700
TZOFFSETTO:-0800
TZNAME:PST
DTSTART:20261101T090000
END:STANDARD
BEGIN:DAYLIGHT
TZOFFSETFROM:-0800
TZOFFSETTO:-0700
TZNAME:PDT
DTSTART:20270314T100000
END:DAYLIGHT
BEGIN:STANDARD
TZOFFSETFROM:-0700
TZOFFSETTO:-0800
TZNAME:PST
DTSTART:20271107T090000
END:STANDARD
END:VTIMEZONE
BEGIN:VEVENT
DTSTART;TZID=America/Los_Angeles:20260522T190000
DTEND;TZID=America/Los_Angeles:20260524T170000
DTSTAMP:20260423T130327
CREATED:20260406T175631Z
LAST-MODIFIED:20260406T231608Z
UID:10001107-1779476400-1779642000@caseyandanke.net
SUMMARY:United heART Mini Festival - MEMORIAL WEEKEND
DESCRIPTION:✨ What to Expect\n• Open your heart through music & mantra\n• Activate your voice and soul expression\n• Enjoy the sacred gift of cacao\n• Be held in a loving\, creative\, high-vibe community\n• Witness a living Mandala portal being born and tap into its potential within a powerful unified field. \n✨ Come with your open heART\, and let’s rise in devotion\, expression\, and unity together! \n🎶 With musical offerings by: Joss Jaffe • Matthew Hara • and others!\n🍫 Cacao Ritual by Taty Tamiraa to open the heart and connect us deeper with one another and the Divine\n🎨 Live Mandala Portal and Guided Mandala teaching and creation by Taty Tamiraa. \n \nFIRE CEREMONY (Yajna) Join Casey & Anke for an ancient Vedic practice of purification and renewal. In this sacred space\, we make offerings to the holy flame to dissolve unresolved conflicts\, quiet the mind\, and release the weight of our worries. As we focus on the art of letting go\, the fire transforms our tensions into Vibhuti (Sacred Ash)—leaving us feeling lighter\, free\, and more open to the divine joy within. \n \nYOGIC IMMERSION (All levels welcome). “Playing in the dynamics of embodiment”. This is a class that will dive into the dance between effort and surrender and offer refined clarity into the Universal yogic principles of alignment. In a light hearted mode of discovery we will enjoy learning and practicing together\, while priming our bodies to receive the day’s blessings. We will casually move through Hatha yoga postures designed to ground and align body and mind\, while simultaneously rising into greater sensitivity of our pranic nature through the transformative currents of the breath and pranayama. This class is applicable and beneficial to all levels; and especially potent for those interested in embodying and sustaining higher levels of consciousness. Led by Matthew Hara a practicing yogi for the past 25 years\, Matthew has lived and studied in India for most of 15 years. \n \nCommUNITY KIRTAN. Sing\, dance\, and celebrate the beauty of commUnity! ✨ Come with your open heART\, and let’s rise in devotion\, expression\, and unity together! \nAn enchanting Cacao Ritual with cacao priestess Taty Tamiraa from Brazil will initiate this evening which will serve as a grounding\, and heart-opening catalyst for deepening our connection with the Earth\, and each other. \nWe will then Expand into the power of sacred music and mantra! Within this safe and sacred space of vocal vulnerability and group harmony we will sensitize into our hearts and powerfully connect to our authentic self-expression. This unified field will support self-discovery\, compassion\, upliftment and Grace as we rise in our hearts and voices through the ancient practice of Kirtan Music. As a cherry on top\, a live Mandala portal will be created during this time by Taty Tamiraa which will serve as a potent portal to catalyze this journey. \n \nMANDALA IMMERSION. A journey of self-discovery through color\, form\, and intention\, led by Taty Tamiraa. This immersive experience\, with live music by Matthew & Joss\, blends active meditation with the intuitive creation of mandalas\, sacred geometric expressions that reflect the soul. You’ll be gently guided through the process of creating your own mandala and invited to explore how these creations can be interpreted and used as personal oracles\, offering insight\, clarity\, and deeper self-awareness.No art experience is needed\, all materials are provided. Just bring your open heart and a willingness to explore your inner world through art made with heART. \nBenefits: \n\nBask in a wholistic heART space\n⁠Connect with your inner self⁠\nExpress your creativity\n⁠Attune and Expand in your intuitive communication\n\nLearn about the magic of Mandalas \n\nCreate your own mandala and tap into its unique wisdom for your path!\n⁠Experience the power of ancient Mantras\nWitness a living Mandala portal being born and tap into its potential within a powerful unified field.\nEnjoy the RICHES of Community!\n\n🎶 With musical offerings by: Joss Jaffe • Matthew Hara • And others! \n 
URL:https://caseyandanke.net/event/united-heart-mini-festival/
LOCATION:Ananda Encinitas & the Temple of Joy\, 946 Hermes Ave\, Encinitas\, CA\, 92024\, United States
ATTACH;FMTTYPE=image/jpeg:https://caseyandanke.net/wp-content/uploads/2026/04/Banner-1.jpg
END:VEVENT
BEGIN:VEVENT
DTSTART;TZID=America/Los_Angeles:20260612T100000
DTEND;TZID=America/Los_Angeles:20260614T170000
DTSTAMP:20260423T130327
CREATED:20260407T040410Z
LAST-MODIFIED:20260407T041544Z
UID:10001109-1781258400-1781456400@caseyandanke.net
SUMMARY:ThetaHealing® Basic DNA Workshop
DESCRIPTION:The ThetaHealing® Basic DNA Workshop is the first in the ThetaHealing Curricula to certify you as a ThetaHealing Practitioner. The Basic DNA and Advanced DNA are the two main workshops that will give you the main tools to start as a ThetaHealer. \nThetaHealing technology is a proven\, effective spiritual technology that anyone\, with dedication\, passion\, and guidance\, can learn to use immediately – on yourself\, with others\, and even animals. \nThe heart of this workshop is the practice of techniques that allow you to change life patterns held in place by core\, genetic\, historic and soul beliefs\, either self-inflicted or externally imposed. ThetaHealing we believe you inherit beliefs and emotions from your ancestors. This level we call the genetic level. \nThe students experience an opening to the Unconditional Love of the Creator. The student will learn to identify his/her own beliefs as well as to practice pulling them for others in the workshop. This practice can quickly reveal systems of belief\, showing the body how to replace limiting beliefs or feelings with positive ones. \nThetaHealing works on energy at all levels. \nEverything physical has an emotional connection.  Release limiting beliefs\, such as “I am unworthy and not good enough” and emotions\, such as anger\, resentment\, sadness\, regret\, fear\, doubt and worry that no longer serve you.  Once these limiting energies are resolved\, your mind will be calmer\, and your body will let go of pain and tension and return to a healthy state of balance and wellbeing.  Manifest who you are truly meant to be. \nOther topics and exercises include: \n\nLearn why we create things in our life and what we learn from it\nLearn discernment when working with guides and guardian angels\nIntroduction to manifesting in your life\nFuture readings\,\nBalancing your moods\nSoul mates\, wayward spirits and implants\nSeven Planes of Existence\nThe Power of Connecting to the Creator of All the Is\n\nStudent satisfaction guaranteed! \n“Anke’s ThetaHealing Basic and Advanced DNA workshops shine far beyond the many healing workshops I’ve experienced.”  Gina Clifton\, CA \nWorkshop Includes:  \n\nHands-on guidance\nWorkshop Manual\nThetaHealing® Book\nThetaHealing® Practitioner Certification\n\nTuition \n\n$650\n$250 deposit made upon initial registration via form below. Balance due ($400 via Venmo prior to the start of the Workshop).\nVenmo:    @Anke-Banderski\n\nPrerequisites: None
URL:https://caseyandanke.net/event/thetahealing-basic-dna-workshop/
LOCATION:Ananda Encinitas & the Temple of Joy\, 946 Hermes Ave\, Encinitas\, CA\, 92024\, United States
ATTACH;FMTTYPE=image/jpeg:https://caseyandanke.net/wp-content/uploads/2025/03/Basic-DNA-Class-SquareBanner.jpg
END:VEVENT
END:VCALENDAR